BEGIN:VCALENDAR
VERSION:2.0
PRODID:-//Odaka Yoga - ECPv6.15.20//NONSGML v1.0//EN
CALSCALE:GREGORIAN
METHOD:PUBLISH
X-WR-CALNAME:Odaka Yoga
X-ORIGINAL-URL:https://odakayoga.com/en/
X-WR-CALDESC:Events for Odaka Yoga
REFRESH-INTERVAL;VALUE=DURATION:PT1H
X-Robots-Tag:noindex
X-PUBLISHED-TTL:PT1H
BEGIN:VTIMEZONE
TZID:Europe/Rome
BEGIN:DAYLIGHT
TZOFFSETFROM:+0100
TZOFFSETTO:+0200
TZNAME:CEST
DTSTART:20240331T010000
END:DAYLIGHT
BEGIN:STANDARD
TZOFFSETFROM:+0200
TZOFFSETTO:+0100
TZNAME:CET
DTSTART:20241027T010000
END:STANDARD
BEGIN:DAYLIGHT
TZOFFSETFROM:+0100
TZOFFSETTO:+0200
TZNAME:CEST
DTSTART:20250330T010000
END:DAYLIGHT
BEGIN:STANDARD
TZOFFSETFROM:+0200
TZOFFSETTO:+0100
TZNAME:CET
DTSTART:20251026T010000
END:STANDARD
BEGIN:DAYLIGHT
TZOFFSETFROM:+0100
TZOFFSETTO:+0200
TZNAME:CEST
DTSTART:20260329T010000
END:DAYLIGHT
BEGIN:STANDARD
TZOFFSETFROM:+0200
TZOFFSETTO:+0100
TZNAME:CET
DTSTART:20261025T010000
END:STANDARD
END:VTIMEZONE
BEGIN:VEVENT
DTSTART;TZID=Europe/Rome:20250816T080000
DTEND;TZID=Europe/Rome:20251005T170000
DTSTAMP:20260422T042135
CREATED:20241205T164334Z
LAST-MODIFIED:20250103T171637Z
UID:25560-1755331200-1759683600@odakayoga.com
SUMMARY:Korea Odaka teacher Training 200 RYT
DESCRIPTION:Intensive odaka yoga course every Saturday and Sunday
URL:https://odakayoga.com/en/event/korea-odaka-teacher-training-200-ryt/
LOCATION:Korea\, Corea del Sud
CATEGORIES:Training
ATTACH;FMTTYPE=image/jpeg:https://odakayoga.com/wordpress/wp-content/uploads/WhatsApp-Image-2025-01-03-at-17.51.45.jpeg
ORGANIZER;CN="su agasty":MAILTO:agastyoga2018@gmail.com
END:VEVENT
END:VCALENDAR