BEGIN:VCALENDAR
VERSION:2.0
PRODID:-//Odaka Yoga - ECPv6.15.20//NONSGML v1.0//EN
CALSCALE:GREGORIAN
METHOD:PUBLISH
X-WR-CALNAME:Odaka Yoga
X-ORIGINAL-URL:https://odakayoga.com/en/
X-WR-CALDESC:Events for Odaka Yoga
REFRESH-INTERVAL;VALUE=DURATION:PT1H
X-Robots-Tag:noindex
X-PUBLISHED-TTL:PT1H
BEGIN:VTIMEZONE
TZID:Europe/Rome
BEGIN:DAYLIGHT
TZOFFSETFROM:+0100
TZOFFSETTO:+0200
TZNAME:CEST
DTSTART:20230326T010000
END:DAYLIGHT
BEGIN:STANDARD
TZOFFSETFROM:+0200
TZOFFSETTO:+0100
TZNAME:CET
DTSTART:20231029T010000
END:STANDARD
BEGIN:DAYLIGHT
TZOFFSETFROM:+0100
TZOFFSETTO:+0200
TZNAME:CEST
DTSTART:20240331T010000
END:DAYLIGHT
BEGIN:STANDARD
TZOFFSETFROM:+0200
TZOFFSETTO:+0100
TZNAME:CET
DTSTART:20241027T010000
END:STANDARD
BEGIN:DAYLIGHT
TZOFFSETFROM:+0100
TZOFFSETTO:+0200
TZNAME:CEST
DTSTART:20250330T010000
END:DAYLIGHT
BEGIN:STANDARD
TZOFFSETFROM:+0200
TZOFFSETTO:+0100
TZNAME:CET
DTSTART:20251026T010000
END:STANDARD
BEGIN:DAYLIGHT
TZOFFSETFROM:+0100
TZOFFSETTO:+0200
TZNAME:CEST
DTSTART:20260329T010000
END:DAYLIGHT
BEGIN:STANDARD
TZOFFSETFROM:+0200
TZOFFSETTO:+0100
TZNAME:CET
DTSTART:20261025T010000
END:STANDARD
BEGIN:DAYLIGHT
TZOFFSETFROM:+0100
TZOFFSETTO:+0200
TZNAME:CEST
DTSTART:20270328T010000
END:DAYLIGHT
BEGIN:STANDARD
TZOFFSETFROM:+0200
TZOFFSETTO:+0100
TZNAME:CET
DTSTART:20271031T010000
END:STANDARD
END:VTIMEZONE
BEGIN:VTIMEZONE
TZID:Asia/Shanghai
BEGIN:STANDARD
TZOFFSETFROM:+0800
TZOFFSETTO:+0800
TZNAME:CST
DTSTART:20240101T000000
END:STANDARD
END:VTIMEZONE
BEGIN:VTIMEZONE
TZID:Atlantic/Canary
BEGIN:DAYLIGHT
TZOFFSETFROM:+0000
TZOFFSETTO:+0100
TZNAME:WEST
DTSTART:20170326T010000
END:DAYLIGHT
BEGIN:STANDARD
TZOFFSETFROM:+0100
TZOFFSETTO:+0000
TZNAME:WET
DTSTART:20171029T010000
END:STANDARD
BEGIN:DAYLIGHT
TZOFFSETFROM:+0000
TZOFFSETTO:+0100
TZNAME:WEST
DTSTART:20180325T010000
END:DAYLIGHT
BEGIN:STANDARD
TZOFFSETFROM:+0100
TZOFFSETTO:+0000
TZNAME:WET
DTSTART:20181028T010000
END:STANDARD
BEGIN:DAYLIGHT
TZOFFSETFROM:+0000
TZOFFSETTO:+0100
TZNAME:WEST
DTSTART:20190331T010000
END:DAYLIGHT
BEGIN:STANDARD
TZOFFSETFROM:+0100
TZOFFSETTO:+0000
TZNAME:WET
DTSTART:20191027T010000
END:STANDARD
END:VTIMEZONE
BEGIN:VEVENT
DTSTART;VALUE=DATE:20260308
DTEND;VALUE=DATE:20260320
DTSTAMP:20260421T233032
CREATED:20250916T101604Z
LAST-MODIFIED:20250916T101604Z
UID:25964-1772928000-1773964799@odakayoga.com
SUMMARY:Bodies That Shine | Sri Lanka
DESCRIPTION:Bodies that Shine Sri Lanka |  \nA Journey Through Yoga\, Nature\, and Light  \nMarch 8-19\, 2026  \nA shining island. A body that awakens. Sri Lanka welcomes us with its profound meaning—resplendent land—and invites us to rediscover our inner luminosity.  \nWHAT AWAITS  \nJust a 7-minute tuk-tuk ride from the sea and a lively and authentic village\, amidst golden beaches and tropical sunsets\, a 6-night retreat awaits you near Mirissa with: – Daily Odaka yoga practice with Niji; – Zen Warrior with Sensei; – Bhakti Karma Yoga with Francesca Carol Rolla. (3 sessions per day: awakening\, workshop\, evening)  \nPROGRAM STRUCTURE  \nYoga Retreat from March 8th to 14th: – Spaces for exploring the body as an “island” that opens to change; – Time to relax\, swim\, explore\, and enjoy the energy of the place; – Possibility of excursions: temples\, nature\, markets\, and lots of delicious local food. The retreat provides practice mats; if you prefer\, you can bring your own travel mat. And if you’d like to continue your journey… After the retreat\, you can join us for a special 4-day/5-night tour to discover the deepest soul of Sri Lanka: nature\, culture\, and spirituality. An experience that combines practice\, adventure\, and transformation.  \nFor reservations and information: Email: eventi@odakayoga.com
URL:https://odakayoga.com/en/event/bodies-that-shine-sri-lanka/
CATEGORIES:Retreats
ATTACH;FMTTYPE=image/png:https://odakayoga.com/wordpress/wp-content/uploads/sri-lanka.png
END:VEVENT
BEGIN:VEVENT
DTSTART;TZID=Europe/Rome:20251031T150000
DTEND;TZID=Europe/Rome:20251102T130000
DTSTAMP:20260421T233032
CREATED:20250530T135453Z
LAST-MODIFIED:20250530T135453Z
UID:25853-1761922800-1762088400@odakayoga.com
SUMMARY:Gathering & Zen Warrior| Shape & Soul Movement Rituals
DESCRIPTION:From October 31st to November 2nd 2025 \nMARTINO CLUB HOTEL | SALTO DI FONDI – SPERLONGA (LATINA) \n10 hours Gathering \nContinuing educational Yoga Alliance ore computabili per le 500 PLUS \n10 hours of Zen Warrior \nCSEN training credits whose hours are computable for the Zen Warrior course \n\nAfter last year’s vibrant success\, we meet again. To listen to ourselves in movement\, flow in presence\, rediscover the sacredness of shared gesture. Three days to awaken the beating heart of the Odaka Yoga style. A space suspended between breath and silence\, where form dissolves and the soul takes shape. Where movement becomes ritual\, conscious and transformative. \n\n\n\nOdaka Yoga – Asana Lab & Sequencing\n\n\n\nHosted by Niji Francesca Cassia \n\n\nStudy\, exploration and creation of flow according to Odaka principles. We will enter the emotional anatomy of the gesture\, to feel\, understand\, generate. Each sequence will be a creative act\, each posture a portal. \n\n\n\nZen Warrior\n\n\n\nLed by Sensei Roberto Milletti \n\n\nA practice inspired by Bushidō\, where every gesture is born from silence and every action vibrates with intention. It is not training. It is a return to the center. Calm. Alert. Unstoppable. We will immerse ourselves in the sword kata Mushin – the empty mind\, where the body becomes a blade of awareness. Presence\, precision\, power: the dance of the inner warrior. \n\nEvening Rituals of Presence\n\n\n\nLed by Sensei and Niji \n\n\nGuided meditations\, listening\, shared silences. To integrate the practice\, root the experience\, expand the being. An opportunity to find yourself\, recognize yourself\, evolve together. A sacred time to come home\, to oneself and to the Odaka tribe. \nBook your mat writing an email to: eventi@odakayoga.com
URL:https://odakayoga.com/en/event/gathering-zen-warrior-shape-soul-movement-rituals/
LOCATION:Martino Club Hotel\, via Flacca km 4150\, Saldo di Fondi\, 04020\, Italia
CATEGORIES:Training
ATTACH;FMTTYPE=image/jpeg:https://odakayoga.com/wordpress/wp-content/uploads/LOCANDINA-GATHERING.jpeg
END:VEVENT
BEGIN:VEVENT
DTSTART;TZID=Asia/Shanghai:20251013T080000
DTEND;TZID=Asia/Shanghai:20251019T170000
DTSTAMP:20260421T233032
CREATED:20250714T064934Z
LAST-MODIFIED:20250714T084947Z
UID:25910-1760342400-1760893200@odakayoga.com
SUMMARY:China: Odaka Zen Warrior Immersion | TT Module
DESCRIPTION:
URL:https://odakayoga.com/en/event/china-odaka-zen-warrior-immersion/
LOCATION:kunming\, Yuejian Yoga Pilates\, kunming\, Guandu District\, china\, 652100\, China
CATEGORIES:Training
ATTACH;FMTTYPE=image/jpeg:https://odakayoga.com/wordpress/wp-content/uploads/WhatsApp-Image-2025-07-14-at-07.41.00.jpeg
END:VEVENT
BEGIN:VEVENT
DTSTART;TZID=Europe/Rome:20250929T080000
DTEND;TZID=Europe/Rome:20251009T170000
DTSTAMP:20260421T233032
CREATED:20241205T164026Z
LAST-MODIFIED:20241205T164026Z
UID:25558-1759132800-1760029200@odakayoga.com
SUMMARY:Intensive Course 200 RYT
DESCRIPTION:Yoga emotion \nZen Warrior \nWith Roberto Milletti and Francesca Cassia \nEvery day from 12.30 am till 17.30 pm
URL:https://odakayoga.com/en/event/intensive-course-200-ryt/
LOCATION:Korea\, Corea del Sud
CATEGORIES:Training
ATTACH;FMTTYPE=image/jpeg:https://odakayoga.com/wordpress/wp-content/uploads/WhatsApp-Image-2024-12-05-at-12.47.50.jpeg
ORGANIZER;CN="su agasty":MAILTO:agastyoga2018@gmail.com
END:VEVENT
BEGIN:VEVENT
DTSTART;TZID=Europe/Rome:20250816T080000
DTEND;TZID=Europe/Rome:20251005T170000
DTSTAMP:20260421T233032
CREATED:20241205T164334Z
LAST-MODIFIED:20250103T171637Z
UID:25560-1755331200-1759683600@odakayoga.com
SUMMARY:Korea Odaka teacher Training 200 RYT
DESCRIPTION:Intensive odaka yoga course every Saturday and Sunday
URL:https://odakayoga.com/en/event/korea-odaka-teacher-training-200-ryt/
LOCATION:Korea\, Corea del Sud
CATEGORIES:Training
ATTACH;FMTTYPE=image/jpeg:https://odakayoga.com/wordpress/wp-content/uploads/WhatsApp-Image-2025-01-03-at-17.51.45.jpeg
ORGANIZER;CN="su agasty":MAILTO:agastyoga2018@gmail.com
END:VEVENT
BEGIN:VEVENT
DTSTART;TZID=Europe/Rome:20250809T150000
DTEND;TZID=Europe/Rome:20250823T130000
DTSTAMP:20260421T233032
CREATED:20250120T173909Z
LAST-MODIFIED:20250120T173909Z
UID:25643-1754751600-1755954000@odakayoga.com
SUMMARY:Waves of Transformation | Creta Inmersion
DESCRIPTION:Dates: from 9-16 August 2025 and/or from 16 – 23 August 2025\n15 hours Odaka Yoga per week\nContinuing educational Yoga Alliance\nhours eligible for the 500 PLUS\n15 hours Zen Warrior per week\nCountable hours for the Zen Warrior path\nCSEN only \nImmerse yourself in the magic of the island of Crete\, where the crystalline sea embraces golden cliffs and time seems to stand still. We invite you to a unique immersion\, an inner journey and external to discover yourself through the practices of Odaka Yoga\, and Zen Warrior\, in one frame of pure Mediterranean beauty. \nEvery day will be marked by moments of practice\, reflection and sharing\, accompanied by the richness of Cretan cuisine and immersions in the wild nature of the island.\nLet yourself be guided by the beauty of Crete to transform every breath into an experience awareness and authentic freedom.\nThis immersion alternates days of intense practice with moments of exploration\, to offer a perfect balance between inner work and free time.\nYou will find: balanced practice alternating with immersive practice. \nDeep Odaka Yoga: Waves\, Movement and Awareness\nA deep dive\, during which you will explore: \n\nFlow of movement: Fluid sequences inspired by the natural rhythm of waves.\nConnective fascia: Release of tension\, awakening of elasticity and lightness.\nAnatomy in action: An innovative approach to harmonizing body and mind\n\nHosted by Francesca Cassia\nExperience a seven\, or fourteen\, day immersion in Crete with Deep Odaka Yoga\, a journey through the flow of movement\, the power of the connective fascia and anatomy in action. We will work on the organization of movement\, exploring how to harmonize body and mind through fluid sequences inspired by sea waves. We will delve deeper into the role of the fascia\, releasing tension and reawakening elasticity and lightness\, with an innovative approach to anatomy in movement. Result: transform the way you move and perceive yourself\, finding balance between strength and flexibility\, mind and body. \nZen Warrior: Embody\nA practice that combines the principles of Yoga\, Functional Movement and Martial Arts.\nYou will explore: \n\nAncestral rhythm: Helical movements inspired by DNA\, to enter a state of consciousness\ndeep.\nInner Strength: Overcome obstacles with lightness and courage\, awakening the warrior peaceful within you.\nSelf-esteem: A complete workout for body and mind\, applicable to every aspect of life.\n\nConducted by Roberto Milletti\nA unique path to hone your skills\, deepen your awareness\, master the movement\, live the experience and embody the essence of the Zen Warrior. Suitable for those starting out for the first time; and to those who wish to complete the Zen Warrior training course\, the hours in fact will be countable towards the 100\nhours of the Experience phase! Have you completed the 130 hour training course? During this immersion your growth will not stop here! in fact\, for those who wish to continue their personal development and enrichment\, we will see two dedicated sequences (one sequence per week) and new insights that will guide you towards a higher level. Continue to perfect yourself and discover the full potential of your Zen Warrior.\nFlow of movement: Fluid sequences inspired by the natural rhythm of waves.\nConnective fascia: Release of tension\, awakening of elasticity and lightness.\nAnatomy in action: An innovative approach to harmonizing body and mind. \nINFO and RESERVATIONS: \nStay in the flow.\nOdaka Yoga Team\nTel. +39 351 9231632 from Mon. to Fri. 9.30am – 2.00pm\nTel. +39 338 7565513 from Monday to Friday from 2.00pm to 6.30pm\nEmail: info@odakayoga.com | web: odakayoga.com
URL:https://odakayoga.com/en/event/waves-of-transformation-creta-inmersion/
LOCATION:creta\, Lentas\, greece\, 70400\, Greece
CATEGORIES:Retreats
ATTACH;FMTTYPE=image/jpeg:https://odakayoga.com/wordpress/wp-content/uploads/WhatsApp-Image-2025-05-28-at-16.20.52.jpeg
END:VEVENT
BEGIN:VEVENT
DTSTART;TZID=Europe/Rome:20250327T133000
DTEND;TZID=Europe/Rome:20250330T133000
DTSTAMP:20260421T233032
CREATED:20241114T072402Z
LAST-MODIFIED:20241114T072402Z
UID:25479-1743082200-1743341400@odakayoga.com
SUMMARY:TRAINING COURSE 30 HOURS Zen Warrior
DESCRIPTION:WHERE: MARTINO CLUB HOTEL | SALTO DI FONDI – SPERLONGA (LATINA) \n\n\nREFINE (10 hours) DEEPEN (10 hours) MASTERING (10 hours) \n\n\nConceived by the architect Clemente Busiri Vici\, the Martino Club Hotel emerges as an unexpected delight along the road. It is designed like a quaint village\, featuring inviting rooms that offer stunning views and direct access to a private beach. \n\n\nWHEN \n\n\nDATES AND TIMES \n\n\nFrom March 27 to March 30\, 2025\, we will engage in this training program through its various stages. The course will commence on Thursday afternoon at 3:00 PM and conclude on Sunday at approximately 1:30 PM. \n\n\nThe operating hours may be subject to minor adjustments\, which will be communicated in advance. \n\n\nN.B. Access requires a minimum of 15 hours of experience. If no events are available to fulfill this requirement\, online lessons may be purchased as an alternative.
URL:https://odakayoga.com/en/event/training-course-30-hours-zen-warrior/
LOCATION:Martino Club Hotel\, via Flacca km 4150\, Saldo di Fondi\, 04020\, Italia
ATTACH;FMTTYPE=image/jpeg:https://odakayoga.com/wordpress/wp-content/uploads/WhatsApp-Image-2024-11-13-at-12.40.37.jpeg
END:VEVENT
BEGIN:VEVENT
DTSTART;TZID=Europe/Rome:20241224T100000
DTEND;TZID=Europe/Rome:20241224T113000
DTSTAMP:20260421T233032
CREATED:20241205T170901Z
LAST-MODIFIED:20241205T170949Z
UID:25567-1735034400-1735039800@odakayoga.com
SUMMARY:CHRISTMASS FREE MASTERCLASS
DESCRIPTION:Like every year now\, here we are at the usual Christmas event. \nA free lesson open to all together with the founding masters of Odaka Yoga Roberto Milletti and Francesca Cassia. \nwrite to us to book your place and receive the link to access the lesson
URL:https://odakayoga.com/en/event/christmass-free-masterclass/
CATEGORIES:Workshops / Festivals
ATTACH;FMTTYPE=image/png:https://odakayoga.com/wordpress/wp-content/uploads/masterclass-natale.png
END:VEVENT
BEGIN:VEVENT
DTSTART;TZID=Europe/Rome:20241023T080000
DTEND;TZID=Europe/Rome:20241026T170000
DTSTAMP:20260421T233032
CREATED:20240627T135204Z
LAST-MODIFIED:20240704T094650Z
UID:25226-1729670400-1729962000@odakayoga.com
SUMMARY:Asia Tour | China
DESCRIPTION:Workshop\nYoga Conference
URL:https://odakayoga.com/en/event/asia-tour-china/
CATEGORIES:Workshops / Festivals
ATTACH;FMTTYPE=image/jpeg:https://odakayoga.com/wordpress/wp-content/uploads/WhatsApp-Image-2024-06-27-at-15.37.19-2.jpeg
ORGANIZER;CN="Jessica Miao":MAILTO:jessica_yzone@sina.com
END:VEVENT
BEGIN:VEVENT
DTSTART;TZID=Europe/Rome:20241001T080000
DTEND;TZID=Europe/Rome:20241020T170000
DTSTAMP:20260421T233032
CREATED:20240627T135835Z
LAST-MODIFIED:20240704T094650Z
UID:25228-1727769600-1729443600@odakayoga.com
SUMMARY:Asia Tour | Korea
DESCRIPTION:Happy shoulder & hip Module\nTeaqcher Training\nEmotions Module\nZen warrior Module\nKorea Yoga Conference
URL:https://odakayoga.com/en/event/asia-tour-korea/
CATEGORIES:Workshops / Festivals
ATTACH;FMTTYPE=image/jpeg:https://odakayoga.com/wordpress/wp-content/uploads/WhatsApp-Image-2024-06-27-at-15.56.13.jpeg
ORGANIZER;CN="Su":MAILTO:agastartstudio@gmail.com
END:VEVENT
BEGIN:VEVENT
DTSTART;TZID=Europe/Rome:20240918T080000
DTEND;TZID=Europe/Rome:20240930T170000
DTSTAMP:20260421T233032
CREATED:20240627T135010Z
LAST-MODIFIED:20240704T094650Z
UID:25224-1726646400-1727715600@odakayoga.com
SUMMARY:Asia Tour | Japan
DESCRIPTION:Zen Warrior Module in tokyo\nTeacher Training in Tokyo\nYokohama Yoga Festival\nRetreat in Nagano
URL:https://odakayoga.com/en/event/asia-tour-japan/
CATEGORIES:Workshops / Festivals
ATTACH;FMTTYPE=image/jpeg:https://odakayoga.com/wordpress/wp-content/uploads/WhatsApp-Image-2024-06-27-at-15.37.19.jpeg
ORGANIZER;CN="Yui Kitagawa":MAILTO:ysyogastudio@gmail.com
END:VEVENT
BEGIN:VEVENT
DTSTART;VALUE=DATE:20180715
DTEND;VALUE=DATE:20180716
DTSTAMP:20260421T233032
CREATED:20180711T082655Z
LAST-MODIFIED:20240704T094650Z
UID:17375-1531612800-1531699199@odakayoga.com
SUMMARY:Domina la gracia del Flow. Domina tus caderas.
DESCRIPTION:LAS PALMAS DE GRAN CANARIA 07.15.18 – Odaka Yoga Workshop with Francesca & Roberto \nFrancesca Cassia and Roberto Milletti\, founders of ODAKA YOGA will be back in Gran Canaria after the success they achieved in Gran Canaria Yoga Conference.  Don’t miss them\, they will be here this weekend!!! \nInspired by the Ocean waves movement and over thirty years of studying and practice\, this fluid and innovative yoga style teaches you to learn and achieve a deep body awareness and counciousness\, allowing you to enter each yoga pose with easiness and no strain… \n \n  \nTry their awesome Odaka Yoga and you’ll experience how your hips will open like they never have\, your extensions and back bendings will be more powerful and deeper than ever such as your arm movements. \nThis style is for every practitioner\, beginners and for its deep relation with the ocean\, it will surely be appreciated by all water sports lovers.  Everyone who’ve tried their classes for a week has been positively impressed and enchanted.  Don’t miss this opportunity. \n@yogahomelpgc
URL:https://odakayoga.com/en/event/domina-la-gracia-del-flow-domina-tus-caderas/
LOCATION:Hotel Cantur\, Calle Sagasta 28 esquina calle Hierro\, Las Palmas de Gran Canaria\, Spagna
CATEGORIES:Workshops / Festivals
END:VEVENT
END:VCALENDAR