BEGIN:VCALENDAR
VERSION:2.0
PRODID:-//Odaka Yoga - ECPv6.15.20//NONSGML v1.0//EN
CALSCALE:GREGORIAN
METHOD:PUBLISH
X-ORIGINAL-URL:https://odakayoga.com/it/
X-WR-CALDESC:Eventi per Odaka Yoga
REFRESH-INTERVAL;VALUE=DURATION:PT1H
X-Robots-Tag:noindex
X-PUBLISHED-TTL:PT1H
BEGIN:VTIMEZONE
TZID:Europe/Rome
BEGIN:DAYLIGHT
TZOFFSETFROM:+0100
TZOFFSETTO:+0200
TZNAME:CEST
DTSTART:20230326T010000
END:DAYLIGHT
BEGIN:STANDARD
TZOFFSETFROM:+0200
TZOFFSETTO:+0100
TZNAME:CET
DTSTART:20231029T010000
END:STANDARD
BEGIN:DAYLIGHT
TZOFFSETFROM:+0100
TZOFFSETTO:+0200
TZNAME:CEST
DTSTART:20240331T010000
END:DAYLIGHT
BEGIN:STANDARD
TZOFFSETFROM:+0200
TZOFFSETTO:+0100
TZNAME:CET
DTSTART:20241027T010000
END:STANDARD
BEGIN:DAYLIGHT
TZOFFSETFROM:+0100
TZOFFSETTO:+0200
TZNAME:CEST
DTSTART:20250330T010000
END:DAYLIGHT
BEGIN:STANDARD
TZOFFSETFROM:+0200
TZOFFSETTO:+0100
TZNAME:CET
DTSTART:20251026T010000
END:STANDARD
BEGIN:DAYLIGHT
TZOFFSETFROM:+0100
TZOFFSETTO:+0200
TZNAME:CEST
DTSTART:20260329T010000
END:DAYLIGHT
BEGIN:STANDARD
TZOFFSETFROM:+0200
TZOFFSETTO:+0100
TZNAME:CET
DTSTART:20261025T010000
END:STANDARD
END:VTIMEZONE
BEGIN:VEVENT
DTSTART;VALUE=DATE:20241123
DTEND;VALUE=DATE:20241202
DTSTAMP:20260421T173127
CREATED:20240912T104740Z
LAST-MODIFIED:20240912T104740Z
UID:25414-1732320000-1733097599@odakayoga.com
SUMMARY:Fascia Flow
DESCRIPTION:Modulo 500H RYT PLUS: ODAKA YOGA FASCIA FLOW: Il Tessuto \ndelle emozioni \nLa Fascia rappresenta il vero organo delle emozioni e della forma\, agendo come un direttore \nd’orchestra per il nostro corpo. Essa facilita una connessione diretta tra le nostre reazioni \nemotive e l’interazione con l’ambiente circostante. Come un’onda nell’oceano dell’infinito\, la \nfascia consente un’espansione e una ricongiunzione con l’essenza dell’Uno. \nDESCRIZIONE DEL CORSO: \nIn questo modulo\, esploreremo come il fluire senza uno sforzo muscolare eccessivo possa \nliberare le emozioni cristallizzate nel tessuto fasciale\, portandoci a uno stato di maggiore \narmonia e flessibilità\, sia mentale che fisica. L’allenamento “Fascia Flow” introduce il ruolo \nfondamentale del tessuto connettivo nel movimento\, rendendo accessibile\, anche agli \ninteressati meno esperti\, questa nuova scienza che sta rivoluzionando il mondo della salute e \ndel benessere. Esploriamo le ultime scoperte sulla fascia e come queste si applichino al \nmovimento. La fascia è un’intricata rete di tessuto connettivo che si trova sotto la pelle e \nsvolge un ruolo cruciale nel corretto funzionamento del corpo si adatta ai carichi che questo \ndeve sopportare\, allungandosi e muovendosi insieme a noi. Attraverso il movimento\, la fascia \nrimodella la rete di collagene\, conferendoci tonicità. Quando raggiungiamo uno stato di \ncalma e consapevolezza\, i nostri muscoli e il tessuto connettivo diventano più responsivi. Il \nmetodo lento e ritmico del “Fascia Flow” ci permette di superare la resistenza nella fascia e di \nlavorare i muscoli in modo più efficace\, allungando l’intero tessuto fasciale in modi che lo \nstretching tradizionale non può ottenere. Una fascia sana è elastica e robusta\, migliora le \nprestazioni fisiche e contribuisce notevolmente alla prevenzione degli infortuni. Entra e scopri \nl’ampia matrice della rete fasciale e il suo rapporto con Odaka e il suo Flow. Esploreremo i \nprincipali meridiani miofasciali attraverso flussi di asana specifici che li coinvolgono in modo \ndettagliato. \nPROGRAMMA: \n• Concetto di fascia e il suo ruolo nel corpo \n• Integrazione dello yoga con il concetto di fascia \n• Importanza del movimento tridimensionale nel corpo \n• Differenza tra flessibilità e plasticità \n• Ruolo dell’acqua nel corpo umano: fluidità e adattabilità \n• Il corpo come sistema di tensioni e compressioni \n• i principali meridiani miofasciali \n• propriocezione e azione \n• Asana mirate per i diversi meridiani miofasciali \n• Concetto di flow nella pratica yoga: flusso lento e dinamico \n• Utilizzo delle therapy ball per il rilascio miofasciale
URL:https://odakayoga.com/it/evento/fascia-flow/
LOCATION:Milano\, MIlano
CATEGORIES:Formazione
ATTACH;FMTTYPE=image/jpeg:https://odakayoga.com/wordpress/wp-content/uploads/IMG_3815.jpg
END:VEVENT
BEGIN:VEVENT
DTSTART;TZID=Europe/Rome:20241109T093000
DTEND;TZID=Europe/Rome:20250525T170000
DTSTAMP:20260421T173127
CREATED:20240627T130819Z
LAST-MODIFIED:20240627T130819Z
UID:25177-1731144600-1748192400@odakayoga.com
SUMMARY:Corso di Formazione 250 ore
DESCRIPTION:Vuoi diventare Insegnante Odaka Yoga? SONO APERTE LE ISCRIZIONI PER IL NUOVO ANNO ACCADEMICO 2024/2025 e non vediamo l’ora di accompagnarti in questo intenso e straordinario percorso formativo e trasformativo. \nIl corso sarà strutturato in: \n\n9 week end di formazione teorico-pratica (a Milano e/o Online)\n3 laboratori\nun percorso di frequenza di lezioni\n20 ore di tirocinio\n\nOdaka Yoga è una scuola di formazione professionale accreditata presso il CONI e affiliata CSEN. \ndurante il Teacher Training avrai l’opportunità di studiare con i fondatori Francesca Cassia e Roberto Milletti oltre al team ufficiale di formatori: Charlotte Lazzari\, Beatrice Morello\, Jessica Ugatti e Francesco Zinnamosca. \nSe provieni da un’altra formazione certificata 200h | 250h potrai seguire il corso nella versione ridotta\, ovvero 6 week end. \nDATE FORMAZIONE 2024 – 2025: \n* 09 – 10 Novembre \n* 07 – 08 Dicembre \n* 18 – 19 Gennaio \n* 22 – 23 Febbraio \n* 01 – 02 Marzo \n* 22 – 23 Marzo \n* 05 – 06 Aprile \n* 10 – 11 Maggio \n* 24 – 25 Maggio \n  \nPer ogni ulteriore informazione\, chiarimento e/o iscrizione\, non esitare a contattarci\, saremo lieti di risponderti! \nTel. + 39 351 923 1632 da lun. a ven. h 9.30 – 15.00 | info@odakayoga.com | www.odakayoga.com
URL:https://odakayoga.com/it/evento/corso-di-formazione-250-ore/
LOCATION:ASD YAMA KARATE\, Via Giulietta Pezzi 4\, Milano\, 20135
CATEGORIES:Formazione
ATTACH;FMTTYPE=image/jpeg:https://odakayoga.com/wordpress/wp-content/uploads/WhatsApp-Image-2024-06-27-at-15.05.49.jpeg
END:VEVENT
BEGIN:VEVENT
DTSTART;TZID=Europe/Rome:20241004T140000
DTEND;TZID=Europe/Rome:20241006T190000
DTSTAMP:20260421T173127
CREATED:20240627T124952Z
LAST-MODIFIED:20240627T124952Z
UID:25159-1728050400-1728241200@odakayoga.com
SUMMARY:Pranayama Flow
DESCRIPTION:Modulo 500H RYT PLUS: ODAKA YOGA PRANAYAMA | 30 ore di \nformazione continua certificate Yoga Alliance \nLa parola Pranayama è profonda e potente. \nPrana ha un significato “vasto” o molti significati. Significa respiro\, vento\, vita\, vitalità\, energia o \nforza. Include anche “l’anima” come opposto del corpo. Ayama significa\, lunghezza\, \nespansione\, allungamento o contenimento. Le due parole usate insieme in Pranayama \nsignificano estensione e controllo del respiro. \nAttraverso l’uso delle tecniche di respirazione\, uno yogi può liberare il proprio corpo dalle \ntossine\, aumentare la propria energia vitale\, rilassare e controllare le varie parti del proprio \ncorpo; dare sollievo o prevenire i crampi\, osservare le emozioni senza lasciarsi sopraffare da \nesse e infine tenere la mente sotto controllo \nINFORMAZIONI: \n• Le 30 ore del modulo sono computate come Yoga Alliance Continuing Education. Ore \ncomputabili per le 500 PLUS e 760 RYT \nDOVE: \nA Milano e On Line \nINFO e PRENOTAZIONI: \nTel. + 39 351 923 1632 da lun. a ven. h 9.30 – 15.00 \nEmail: info@odakayoga.com | web: odakayoga.com
URL:https://odakayoga.com/it/evento/pranayama-flow/
LOCATION:beSoul\, Via Venini 57.\, Milano\, 20127\, Italia
CATEGORIES:Formazione
ATTACH;FMTTYPE=image/jpeg:https://odakayoga.com/wordpress/wp-content/uploads/IMG_3809.jpg
END:VEVENT
BEGIN:VEVENT
DTSTART;TZID=Europe/Rome:20240918T100000
DTEND;TZID=Europe/Rome:20240930T170000
DTSTAMP:20260421T173127
CREATED:20240627T134325Z
LAST-MODIFIED:20240627T134325Z
UID:25210-1726653600-1727715600@odakayoga.com
SUMMARY:Asia Tour | Japan
DESCRIPTION:Zen Warrior Module\, in TOKYO\nTTC in TOKYO\nYokohama Yoga Festival\nRetreat in Nagano
URL:https://odakayoga.com/it/evento/asia-tour-japan/
CATEGORIES:Formazione,Ritiri,Workshop / Festival
ATTACH;FMTTYPE=image/jpeg:https://odakayoga.com/wordpress/wp-content/uploads/WhatsApp-Image-2024-06-27-at-15.37.19.jpeg
ORGANIZER;CN="Yui Kitagawa":MAILTO:ysyogastudio@gmail.com
END:VEVENT
BEGIN:VEVENT
DTSTART;TZID=Europe/Rome:20240818T160000
DTEND;TZID=Europe/Rome:20240825T130000
DTSTAMP:20260421T173127
CREATED:20240606T132037Z
LAST-MODIFIED:20240606T132344Z
UID:25156-1723996800-1724590800@odakayoga.com
SUMMARY:Spanda: unleash your beat
DESCRIPTION:FORMAZIONE e formula RETREAT 18 AL 25 AGOSTO 2024 \nSpanda: unleash your beat \nNella splendida ISOLA DI PAROS | GRECIA \nZEN WARRIOR INTENSIVE | BEAT AS ONE | CERTIFICATO 20 ORE solo CSEN \nCondotto da Roberto Milletti \nScopri la straordinaria potenza di Zen Warrior\, una fusione rivoluzionaria di arti marziali\, yoga funzionale e \nZen che si adatta perfettamente al tuo stile di vita. Con il rituale della danza guerriera\, questa pratica\, \nnon solo ti dona imperturbabilità e forza fisica\, ma anche una serenità interiore profonda. \nSarai guidato dalla danza guerriera verso una mente fluida\, rendendoti inattaccabile. La pratica di Zen \nWarrior è il segreto per ricaricare corpo e mente\, potenziare la tua forza vitale e ottenere il controllo su \npensieri\, emozioni e paure. Prepara la tua mente a restare calma nel caos circostante\, pronta a \nconcentrarsi nell’attimo presente e a trionfare in ogni sfida. Entra nell’esperienza Zen Warrior e trasforma il \ntuo potenziale. \nNota Bene: Questo corso conferisce la possibilità di concludere il percorso di studi e ottenere il nome \ndel tuo animale totem. Nello stesso tempo offre la possibilità di iniziare un nuovo percorso di \nformazione se partecipi per la prima volta. \nSPANDA AND FLOW | Unlocking Yoga’s Flow: Embracing ‘Spanda’ and Rhythm | \nModulo valido per il percorso di studi 500 ore e certificato YOGA ALLIANCE Continuing \nEducation 25 ore | \nCondotto da Francesca Cassia \nEleva la tua pratica di yoga. Armonizza la mente ed il movimento con il ritmo ed il battito. Che cos’è il \nritmo? Nella pratica Odaka Yoga\, il concetto di “ritmo” e di “spanda” è centrale. “Spanda” è una parola \nsanscrita che può essere tradotta come “vibrazione creativa” o “pulsazione cosmica”. \nSi riferisce alla consapevolezza del ritmo del corpo e dell’universo che permea la pratica. \nSincronizzando la centratura ed i movimenti\, affinché fluiscano insieme in un’armonia naturale. \nQuesto porta ad una sensazione di fluire\, presenza e connessione con il proprio corpo favorendo \nl’espressione di pose avanzate in assenza di sforzo. \nIn questo corso lo spanda diventa la guida\, incoraggia ogni praticante a diventare consapevole del \nproprio rito imparando ad adattarsi ad esso e infonde energia alla pratica conducendoci in \nun’esperienza di yoga profonda ed autentica. \nIl ritmo è espansione: tra un respiro e l’altro\, tra una posa e l’altra\, tra forza e flessibilità\, tra silenzio e \nascolto… \nDOVE: \nGRECIA | ISOLA di PAROS| 18 – 25 agosto 2024 | \nPRESSO: OKREBLUE ECO YOGA RETREAT \nPer la formazione e retreat Odaka Yoga abbiamo scelto un POSTO SPECIALE per offrirti un’esperienza \nUNICA nel suo comfort. Saremo ospiti del meraviglioso centro OKREBLUE ECO YOGA RETREAT \nin perfetto equilibrio con la natura\, Okreblue Eco Yoga Retreat si distingue come destinazione benessere \ndove ritirarsi\, ripristinare e approfondire la connessione con mente\, corpo e anima. Progettato in totale \narmonia con l’ambiente circostante\, questo autentico ritiro di yoga in Grecia è l’ideale per fughe di \nbenessere individuali\, ritiri di yoga di gruppo\, corsi di formazione per insegnanti o lezioni di yoga \ngiornaliere. Okreblue si trova sul litorale relativamente incontaminato di Santa Maria\, sulla tranquilla \npenisola dell’isola di Paros\, in Grecia. Gli Elementi circostanti\, in particolare la Terra e l’Acqua\, sono \nl’anima di Okreblue. La vicinanza alla natura nella sua crudezza e purezza crea condizioni \nprofondamente nutrienti per la tua guarigione\, ringiovanimento e autoriflessione a Okreblue anche per la \nsua bellezza naturale. \n  \nRETREAT FORMULA: \nDue pratiche yoga al giorno da un’ora e mezza ciascuna\, con Roberto Milletti e Francesca Cassia\, che in \ngenere si svolgeranno la mattina e la sera al tramonto prima di cena. Una formula adatta a chi desidera \npraticare yoga e godersi anche la vacanza. Le ore di pratica saranno certificate 15 ore Yoga Alliance \nPossibilità di fare Formula retreat esclusiva per una sola disciplina unendo le ore o solo nello yoga al mattino o solo nello zen warrior la sera. \nINFO e PRENOTAZIONI ODAKA YOGA: Tel. + 39 351 923 1632 da lun. a ven. h 9.30 – 15.00 | Email: \ninfo@odakayoga.com | web: odakayoga.com
URL:https://odakayoga.com/it/evento/spanda-unleash-your-beat/
LOCATION:Okreblue Retreat\, Filizi\, Santa Maria\, Naoussa\, Paros\, Paros\, Grecia\, 84401
CATEGORIES:Formazione,Ritiri
ATTACH;FMTTYPE=image/png:https://odakayoga.com/wordpress/wp-content/uploads/Schermata-2023-10-17-alle-16.08.38.png
END:VEVENT
BEGIN:VEVENT
DTSTART;TZID=Europe/Rome:20240530T180000
DTEND;TZID=Europe/Rome:20240530T193000
DTSTAMP:20260421T173127
CREATED:20240523T093346Z
LAST-MODIFIED:20240523T093346Z
UID:25088-1717092000-1717097400@odakayoga.com
SUMMARY:Zen Warrior 4 ed ultimo appuntamento su Joyfuel
DESCRIPTION:
URL:https://odakayoga.com/it/evento/zen-warrior-4-ed-ultimo-appuntamento-su-joyfuel/
CATEGORIES:Formazione,Workshop / Festival
ATTACH;FMTTYPE=image/jpeg:https://odakayoga.com/wordpress/wp-content/uploads/homeblock_zen-warrior-1.jpg
ORGANIZER;CN="Silvia Pasqualini":MAILTO:joyfuel@ilcorpoelamente.com
END:VEVENT
BEGIN:VEVENT
DTSTART;TZID=Europe/Rome:20240519T100000
DTEND;TZID=Europe/Rome:20240519T120000
DTSTAMP:20260421T173127
CREATED:20240321T164326Z
LAST-MODIFIED:20240321T164326Z
UID:24779-1716112800-1716120000@odakayoga.com
SUMMARY:Pulse & Power - Odaka Yoga Masterclass
DESCRIPTION:Domenica 19 Maggio\, ore 10.00- 12.00 \nCon i Maestri Roberto Milletti e Francesca Cassia  \nPresso Spazio Ricerca\nStrada Saviabona\, 356 – Vicenza \nPer info e prenotazioni contattare MARTINA: 3474274365
URL:https://odakayoga.com/it/evento/pulse-power-odaka-yoga-masterclass/
LOCATION:Spazio Ricerca\, Strada Saviabona\, 145\, Vicenza\, VI\, 36100\, Italia
CATEGORIES:Formazione
ATTACH;FMTTYPE=image/png:https://odakayoga.com/wordpress/wp-content/uploads/PulsePower-Odaka-Spazio-Vicenza-14-Maggio.png
END:VEVENT
BEGIN:VEVENT
DTSTART;TZID=Europe/Rome:20240511T143000
DTEND;TZID=Europe/Rome:20240511T183000
DTSTAMP:20260421T173127
CREATED:20240424T105143Z
LAST-MODIFIED:20240424T105143Z
UID:24936-1715437800-1715452200@odakayoga.com
SUMMARY:Anatomia della Spalla | Olbia
DESCRIPTION:ODAKA YOGA® WORKSHOP DI FORMAZIONE RYT 500 PLUS \nANATOMIA della SPALLA| 5 ore di formazione continua \ncertificate yoga alliance \nWorkshop condotto da Beatrice Morello \nUn viaggio esperenziale che ti condurrà alla comprensione della struttura della spalla\, delle sue \npotenzialità e delle sue possibilità. Scopriremo insieme i movimenti sicuri da eseguire per poter \npraticare le pose in cui la spalla è la protagonista. \n  \nINFO e PRENOTAZIONI: \nTel. + 39 351 923 1632 da lun. a ven. h 9.30 – 15.00 \nEmail: info@odakayoga.com | web: odakayoga.com
URL:https://odakayoga.com/it/evento/anatomia-della-spalla-olbia/
LOCATION:Art of Movement\, Via Piro\, 9\, Olbia\, 07026\, Italia
CATEGORIES:Formazione
ATTACH;FMTTYPE=image/jpeg:https://odakayoga.com/wordpress/wp-content/uploads/6-1.jpg
END:VEVENT
BEGIN:VEVENT
DTSTART;TZID=Europe/Rome:20240421T080000
DTEND;TZID=Europe/Rome:20240421T170000
DTSTAMP:20260421T173127
CREATED:20240412T130434Z
LAST-MODIFIED:20240412T130658Z
UID:24906-1713686400-1713718800@odakayoga.com
SUMMARY:Manipura Springtime
DESCRIPTION:In collaborazione con Holibreak e con il supporto di Atma feed Your Soul | ReYoga | Vetra Building | Vivere lo Yoga \nProgramma Evento: \n\nore 10:00: Welcome\nore 10:30: Pratica Odaka Condotta dai Maestri Roberto Milletti e Francesca Cassia\nore 13:00: Pausa Pranzo\nore 14:30: condivisioni e chiusura\n\nPresso: \nHolibreak c/o Vetra Building | Piazza Vetra 17 | Milano \nInfo\, costi e prenotazioni su: \ninfo@odakayoga.com\ninfo@holibreak.it
URL:https://odakayoga.com/it/evento/manipura-springtime/
LOCATION:Holibreak c/o Vetra Building\, Piazza Vetra 17\, Milano\, 20123\, Italia
CATEGORIES:Formazione
ATTACH;FMTTYPE=image/jpeg:https://odakayoga.com/wordpress/wp-content/uploads/21-Aprile-Holibreak.jpg
END:VEVENT
END:VCALENDAR