BEGIN:VCALENDAR
VERSION:2.0
PRODID:-//Odaka Yoga - ECPv6.15.20//NONSGML v1.0//EN
CALSCALE:GREGORIAN
METHOD:PUBLISH
X-ORIGINAL-URL:https://odakayoga.com/it/
X-WR-CALDESC:Eventi per Odaka Yoga
REFRESH-INTERVAL;VALUE=DURATION:PT1H
X-Robots-Tag:noindex
X-PUBLISHED-TTL:PT1H
BEGIN:VTIMEZONE
TZID:Europe/Rome
BEGIN:DAYLIGHT
TZOFFSETFROM:+0100
TZOFFSETTO:+0200
TZNAME:CEST
DTSTART:20240331T010000
END:DAYLIGHT
BEGIN:STANDARD
TZOFFSETFROM:+0200
TZOFFSETTO:+0100
TZNAME:CET
DTSTART:20241027T010000
END:STANDARD
BEGIN:DAYLIGHT
TZOFFSETFROM:+0100
TZOFFSETTO:+0200
TZNAME:CEST
DTSTART:20250330T010000
END:DAYLIGHT
BEGIN:STANDARD
TZOFFSETFROM:+0200
TZOFFSETTO:+0100
TZNAME:CET
DTSTART:20251026T010000
END:STANDARD
BEGIN:DAYLIGHT
TZOFFSETFROM:+0100
TZOFFSETTO:+0200
TZNAME:CEST
DTSTART:20260329T010000
END:DAYLIGHT
BEGIN:STANDARD
TZOFFSETFROM:+0200
TZOFFSETTO:+0100
TZNAME:CET
DTSTART:20261025T010000
END:STANDARD
BEGIN:DAYLIGHT
TZOFFSETFROM:+0100
TZOFFSETTO:+0200
TZNAME:CEST
DTSTART:20270328T010000
END:DAYLIGHT
BEGIN:STANDARD
TZOFFSETFROM:+0200
TZOFFSETTO:+0100
TZNAME:CET
DTSTART:20271031T010000
END:STANDARD
END:VTIMEZONE
BEGIN:VEVENT
DTSTART;VALUE=DATE:20251229
DTEND;VALUE=DATE:20260102
DTSTAMP:20260421T220028
CREATED:20251003T074453Z
LAST-MODIFIED:20251119T081331Z
UID:25994-1766966400-1767311999@odakayoga.com
SUMMARY:Reconnect | Retreat di Capodanno | Tenuta di Fassia
DESCRIPTION:Reconnect.\nForza\, presenza\, rinascita | Tenuta di Fassia  \n10 ore Yacep | 10 ore Zen Warrior Csen \nUn retreat per accogliere il nuovo anno con consapevolezza\, forza interiore e direzione.\nUn’esperienza immersiva che intreccia le due anime della pratica Odaka e i rituali sonori di Sara Usai. \nCosa vivrai \n\nClassi Odaka Yoga ispirate alle tre fasi del sequencing: Intenzione (radicamento e visione interiore); Transizione (il flusso che accoglie e trasforma); Manifestazione (apertura e potenza creativa).\nSessioni Zen Warrior per forgiarti nel silenzio\, affinare la mente e agire con centratura.\nRituali sonori per attraversare ciò che è stato concedendoti lo spazio ed il tempo di accogliere nuove possibilità.\nTempo per riconnetterti con te stesso/a\, la natura e ciò che davvero conta.\n\nPer info e prenotazioni: \nTel: +39 3519231632\nEmail: eventi@odakayoga.com
URL:https://odakayoga.com/it/evento/rewconnect-ritiro-capodanno-tenuta-di-fassia/
LOCATION:Tenuta di fassia\, Via Santa Maria Maddalena\, Ponte d'Assi (PG)\, 06024\, Italy
CATEGORIES:Ritiri
ATTACH;FMTTYPE=image/png:https://odakayoga.com/wordpress/wp-content/uploads/Gubbio-PG-Umbria-1.png
END:VEVENT
END:VCALENDAR