BEGIN:VCALENDAR
VERSION:2.0
PRODID:-//Odaka Yoga - ECPv6.15.20//NONSGML v1.0//EN
CALSCALE:GREGORIAN
METHOD:PUBLISH
X-ORIGINAL-URL:https://odakayoga.com/it/
X-WR-CALDESC:Eventi per Odaka Yoga
REFRESH-INTERVAL;VALUE=DURATION:PT1H
X-Robots-Tag:noindex
X-PUBLISHED-TTL:PT1H
BEGIN:VTIMEZONE
TZID:Europe/Rome
BEGIN:DAYLIGHT
TZOFFSETFROM:+0100
TZOFFSETTO:+0200
TZNAME:CEST
DTSTART:20240331T010000
END:DAYLIGHT
BEGIN:STANDARD
TZOFFSETFROM:+0200
TZOFFSETTO:+0100
TZNAME:CET
DTSTART:20241027T010000
END:STANDARD
BEGIN:DAYLIGHT
TZOFFSETFROM:+0100
TZOFFSETTO:+0200
TZNAME:CEST
DTSTART:20250330T010000
END:DAYLIGHT
BEGIN:STANDARD
TZOFFSETFROM:+0200
TZOFFSETTO:+0100
TZNAME:CET
DTSTART:20251026T010000
END:STANDARD
BEGIN:DAYLIGHT
TZOFFSETFROM:+0100
TZOFFSETTO:+0200
TZNAME:CEST
DTSTART:20260329T010000
END:DAYLIGHT
BEGIN:STANDARD
TZOFFSETFROM:+0200
TZOFFSETTO:+0100
TZNAME:CET
DTSTART:20261025T010000
END:STANDARD
END:VTIMEZONE
BEGIN:VEVENT
DTSTART;TZID=Europe/Rome:20250518T093000
DTEND;TZID=Europe/Rome:20250518T113000
DTSTAMP:20260422T063518
CREATED:20250213T094842Z
LAST-MODIFIED:20250428T124244Z
UID:25681-1747560600-1747567800@odakayoga.com
SUMMARY:Fluidità\, Biomeccanica e Riequilibrio corporeo
DESCRIPTION:Masterclass Tenuta da Roberto Milletti e Francesca Cassia \nUn’immersione avanzata nell’Odaka Yoga\, dove la biomeccanica intelligente incontra la fluidità del movimento per ottimizzare la funzionalità corporea e la resilienza articolare. Attraverso transizioni liquide ispirate al moto dell’oceano\, imparerai a generare forza senza rigidità\, migliorare la propriocezione e rilasciare tensioni profonde. Approfondiremo i principi di elasticità miofasciale\, stabilità dinamica e onde cinematiche per una pratica efficiente e trasformativa. Ispirandoci al concetto yogico di Vairagya\, il distacco dalle rigidità fisiche e mentali\, esploreremo come liberare il corpo e la mente per un’esperienza di piena libertà. Perfetta per praticanti e insegnanti che desiderano affinare tecnica e consapevolezza corporea con un approccio innovativo e funzionale. \nTelefono: 351 780 8061 \n Amarissimo Cala Celeste\, viale Verdi 130 \nLido Adriano Ravenna
URL:https://odakayoga.com/it/evento/fluidita-biomeccanica-e-riequilibrio-corporeo/
LOCATION:Amarissimo Cala Celeste\, viale Verdi 130\, Ravenna\, 48122\, Italy
CATEGORIES:Workshop / Festival
ATTACH;FMTTYPE=image/jpeg:https://odakayoga.com/wordpress/wp-content/uploads/LOCANDINA-RAVENNA-18-maggio.jpeg
END:VEVENT
END:VCALENDAR