BEGIN:VCALENDAR
VERSION:2.0
PRODID:-//Odaka Yoga - ECPv6.15.20//NONSGML v1.0//EN
CALSCALE:GREGORIAN
METHOD:PUBLISH
X-ORIGINAL-URL:https://odakayoga.com/it/
X-WR-CALDESC:Eventi per Odaka Yoga
REFRESH-INTERVAL;VALUE=DURATION:PT1H
X-Robots-Tag:noindex
X-PUBLISHED-TTL:PT1H
BEGIN:VTIMEZONE
TZID:Europe/Rome
BEGIN:DAYLIGHT
TZOFFSETFROM:+0100
TZOFFSETTO:+0200
TZNAME:CEST
DTSTART:20240331T010000
END:DAYLIGHT
BEGIN:STANDARD
TZOFFSETFROM:+0200
TZOFFSETTO:+0100
TZNAME:CET
DTSTART:20241027T010000
END:STANDARD
BEGIN:DAYLIGHT
TZOFFSETFROM:+0100
TZOFFSETTO:+0200
TZNAME:CEST
DTSTART:20250330T010000
END:DAYLIGHT
BEGIN:STANDARD
TZOFFSETFROM:+0200
TZOFFSETTO:+0100
TZNAME:CET
DTSTART:20251026T010000
END:STANDARD
BEGIN:DAYLIGHT
TZOFFSETFROM:+0100
TZOFFSETTO:+0200
TZNAME:CEST
DTSTART:20260329T010000
END:DAYLIGHT
BEGIN:STANDARD
TZOFFSETFROM:+0200
TZOFFSETTO:+0100
TZNAME:CET
DTSTART:20261025T010000
END:STANDARD
BEGIN:DAYLIGHT
TZOFFSETFROM:+0100
TZOFFSETTO:+0200
TZNAME:CEST
DTSTART:20270328T010000
END:DAYLIGHT
BEGIN:STANDARD
TZOFFSETFROM:+0200
TZOFFSETTO:+0100
TZNAME:CET
DTSTART:20271031T010000
END:STANDARD
END:VTIMEZONE
BEGIN:VEVENT
DTSTART;TZID=Europe/Rome:20251130T173000
DTEND;TZID=Europe/Rome:20260419T190000
DTSTAMP:20260421T215842
CREATED:20251003T073457Z
LAST-MODIFIED:20251003T073457Z
UID:25990-1764523800-1776625200@odakayoga.com
SUMMARY:Yoga & Filosofia
DESCRIPTION:Dopo il successo dello scorso anno\, torna Yoga e Filosofia! \n10 ore di Formazione continua\, computabili per le 500 plus e 760 Ryt \nScopri i segreti millenari di questa saggezza yogica e apprendi come applicarli nella tua vita quotidiana! \nIl corso è tenuto da Sarah Giannini\, laureata in filosofia orientale ed esperta del settore! Dal 2012 insegna filosofia indiana nei corsi di formazione per insegnanti yoga. Questo breve corso di propone di illustrare le fonti dello yoga e dare consistenza alla cornice filosofica che ha reso la possibile la genesi ed il perfezionamento delle numerose tecniche che attualmente pratichiamo! \ngli appuntamenti saranno: \n\n30 novembre\n7 dicembre\n11 gennaio 2026\n1 marzo 2026\n29 marzo 2026\n19 aprile 2026\n\nOgni incontro dura 1 ora e trenta\, dalle 17.30 alle 19.00 \nPER INFO & PRENOTAZIONI \nscrivi a info@odakayoga.com \n 
URL:https://odakayoga.com/it/evento/yoga-filosofia-2/
LOCATION:ASD YAMA KARATE\, Via Giulietta Pezzi 4\, Milano\, 20135
CATEGORIES:Formazione
ATTACH;FMTTYPE=image/png:https://odakayoga.com/wordpress/wp-content/uploads/yoga-e-filosofia.png
END:VEVENT
BEGIN:VEVENT
DTSTART;VALUE=DATE:20260409
DTEND;VALUE=DATE:20260413
DTSTAMP:20260421T215842
CREATED:20251204T142914Z
LAST-MODIFIED:20251204T142914Z
UID:26112-1775692800-1776038399@odakayoga.com
SUMMARY:Formazione Zen Warrior | Sperlonga 2026
DESCRIPTION:ZEN WARRIOR 2026 \n📅 9–12 aprile 2026 \n📍 Sperlonga \n✨ Un viaggio per chi sente il richiamo a raffinare e approfondire la pratica\, a incarnare la forza gentile\, la presenza viva\, lo spirito del guerriero zen. \nModuli: Refine & Deepen \nUn invito a radicarsi nel respiro\, a fluire nel movimento\, a ritrovare equilibrio tra potenza e quiete. \n📩 info@odakayoga.com
URL:https://odakayoga.com/it/evento/formazione-zen-warrior-sperlonga-2026/
ATTACH;FMTTYPE=image/png:https://odakayoga.com/wordpress/wp-content/uploads/Zen-Warrior-2026.png
END:VEVENT
BEGIN:VEVENT
DTSTART;VALUE=DATE:20260425
DTEND;VALUE=DATE:20260427
DTSTAMP:20260421T215842
CREATED:20250715T121833Z
LAST-MODIFIED:20251119T081135Z
UID:25926-1777075200-1777247999@odakayoga.com
SUMMARY:Art Of Teaching
DESCRIPTION:Milano e Online | 25-26 Aprile 2026 \n20 ore  \nContinuing Educational Yoga Alliance | ore computabili per le 500 plus \nSiamo felici di annunciare\, a grande richiesta\, a seguito di questi ultimi Teacher Training che hanno fatto crescere la nostra comunità Odaka in maniera esponenziale\, il ritorno di uno dei moduli più trasformativi del percorso Odaka Yoga®! \nL’arte dell’Insegnamento. Modulo riconosciuto all’interno della Formazione insegnanti Odaka Yoga® 500h Ryt Plus. \nUn weekend immersivo per affinare la tua capacità di trasmettere creando empatia ed interazione con la classe\, apprendendo l’arte del linguaggio ed il grande potere della musica nell’insegnamento. Scoprendo\, così\, come rendere speciale ogni lezione!\n \nNon lasciarti sfuggire questo modulo\, prenota il tuo posto\n \nPer info e prenotazioni:\nTel. +39 338 7565513\nEmail: info@odakayoga.com
URL:https://odakayoga.com/it/evento/art-of-teaching/
LOCATION:ASD YAMA KARATE\, Via Giulietta Pezzi 4\, Milano\, 20135
CATEGORIES:Formazione
ATTACH;FMTTYPE=image/png:https://odakayoga.com/wordpress/wp-content/uploads/ART-OF-TEACHING-1.png
END:VEVENT
BEGIN:VEVENT
DTSTART;VALUE=DATE:20260731
DTEND;VALUE=DATE:20260810
DTSTAMP:20260421T215842
CREATED:20260123T082739Z
LAST-MODIFIED:20260226T113000Z
UID:26132-1785456000-1786319999@odakayoga.com
SUMMARY:SARDEGNA 2026 | SUMMER RETREAT
DESCRIPTION:…anche tu senti già il richiamo dell’estate?\nLasciati ispirare dalla luce\, dal vento e dal mare della Sardegna per prenotare il nostro retreat estivo Odaka Yoga. \nUn’esperienza immersiva tra pratica e natura\, dove il movimento segue il ritmo delle onde\, il corpo ritrova fluidità e il Guerriero Gentile si risveglia con presenza e consapevolezza. Giorni di pratica intensa e ascolto\, alternati a tempo libero per respirare\, esplorare e integrare\, in un paesaggio mediterraneo potente e autentico. \n📅 31 luglio | 9 agosto 2026 📍 Bari Sardo | Nuoro Sardegna 2026 \nUn viaggio dentro e fuori\, per immergerti completamente nella pratica di Odaka Yoga e Zen Warrior\, tra intensità\, integrazione e libertà. \nEARLY BIRD fino al 1 marzo 2026\nInfo & prenotazioni: eventi@odakayoga.com
URL:https://odakayoga.com/it/evento/sardegna-2026-summer-retreat/
CATEGORIES:Ritiri
ATTACH;FMTTYPE=image/png:https://odakayoga.com/wordpress/wp-content/uploads/locandina-sardegna.png
END:VEVENT
END:VCALENDAR