BEGIN:VCALENDAR
VERSION:2.0
PRODID:-//Odaka Yoga - ECPv6.15.20//NONSGML v1.0//EN
CALSCALE:GREGORIAN
METHOD:PUBLISH
X-ORIGINAL-URL:https://odakayoga.com/it/
X-WR-CALDESC:Eventi per Odaka Yoga
REFRESH-INTERVAL;VALUE=DURATION:PT1H
X-Robots-Tag:noindex
X-PUBLISHED-TTL:PT1H
BEGIN:VTIMEZONE
TZID:Europe/Rome
BEGIN:DAYLIGHT
TZOFFSETFROM:+0100
TZOFFSETTO:+0200
TZNAME:CEST
DTSTART:20240331T010000
END:DAYLIGHT
BEGIN:STANDARD
TZOFFSETFROM:+0200
TZOFFSETTO:+0100
TZNAME:CET
DTSTART:20241027T010000
END:STANDARD
BEGIN:DAYLIGHT
TZOFFSETFROM:+0100
TZOFFSETTO:+0200
TZNAME:CEST
DTSTART:20250330T010000
END:DAYLIGHT
BEGIN:STANDARD
TZOFFSETFROM:+0200
TZOFFSETTO:+0100
TZNAME:CET
DTSTART:20251026T010000
END:STANDARD
BEGIN:DAYLIGHT
TZOFFSETFROM:+0100
TZOFFSETTO:+0200
TZNAME:CEST
DTSTART:20260329T010000
END:DAYLIGHT
BEGIN:STANDARD
TZOFFSETFROM:+0200
TZOFFSETTO:+0100
TZNAME:CET
DTSTART:20261025T010000
END:STANDARD
BEGIN:DAYLIGHT
TZOFFSETFROM:+0100
TZOFFSETTO:+0200
TZNAME:CEST
DTSTART:20270328T010000
END:DAYLIGHT
BEGIN:STANDARD
TZOFFSETFROM:+0200
TZOFFSETTO:+0100
TZNAME:CET
DTSTART:20271031T010000
END:STANDARD
END:VTIMEZONE
BEGIN:VEVENT
DTSTART;TZID=Europe/Rome:20251031T150000
DTEND;TZID=Europe/Rome:20251102T130000
DTSTAMP:20260422T020859
CREATED:20250530T133154Z
LAST-MODIFIED:20250530T133154Z
UID:25849-1761922800-1762088400@odakayoga.com
SUMMARY:Gathering & Zen warrior | Forma & Anima rituali di Movimento
DESCRIPTION:Dal 31 ottobre al 2 novembre presso il Martino club Hotel a Salto di fondi- Sperlonga (LT) \n10 ore Gathering \nContinuing educational Yoga Alliance ore computabili per le 500 PLUS \n10 ore Zen Warrior \nCrediti formativi CSEN le cui ore sono computabili per il percorso Zen Warrior \nDopo il successo vibrante dello scorso anno\, ci ritroviamo ancora. \n\n\nPer ascoltarci nel movimento\, fluire nella presenza\, ritrovare la sacralità del gesto condiviso. Tre giorni per risvegliare il cuore pulsante dello stile Odaka Yoga. Uno spazio sospeso tra respiro e silenzio\, dove la forma si dissolve e l’anima prende corpo. Dove il movimento diventa rito\, consapevole e trasformativo. \n\n\n\nOdaka Yoga – Asana Lab & Sequencing\n\n\n\nCondotto Da Niji Francesca Cassia \n\n\nStudio\, esplorazione e creazione del flusso secondo i principi Odaka. Entreremo nell’anatomia emozionale del gesto\, per sentire\, comprendere\, generare. Ogni sequenza sarà un atto creativo\, ogni postura un portale. \n\n\n\nZen Warrior\n\n\n\nCondotto da Sensei Roberto Milletti \n\n\nUna pratica ispirata al Bushidō\, dove ogni gesto nasce dal silenzio e ogni azione vibra di intenzione. Non è allenamento. È ritorno al centro. Calmo. Vigile. Inarrestabile. Ci immergeremo nel kata di spada Mushin – la mente vuota\, dove il corpo si fa lama di consapevolezza. Presenza\, precisione\, potenza: la danza del guerriero interiore. \n\n\n\nRituali serali di Presenza\n\n\n\nCondotti da Sensei e Niji \n\n\nMeditazioni guidate\, ascolto\, silenzi condivisi. Per integrare la pratica\, radicare l’esperienza\, espandere l’essere. Un’occasione per ritrovarsi\, riconoscersi\, evolvere insieme. Un tempo sacro per tornare a casa\, dentro di sé e nella tribù Odaka. \n\n\n\nPrenota il tuo posto scrivendo a : eventi@odakayoga.com \n\n\n\n 
URL:https://odakayoga.com/it/evento/gathering-zen-warrior-forma-anima-rituali-di-movimento/
LOCATION:Martino Club Hotel\, via Flacca km 4150\, Saldo di Fondi\, 04020\, Italia
CATEGORIES:Ritiri
ATTACH;FMTTYPE=image/jpeg:https://odakayoga.com/wordpress/wp-content/uploads/LOCANDINA-GATHERING.jpeg
END:VEVENT
BEGIN:VEVENT
DTSTART;TZID=Europe/Rome:20251122T093000
DTEND;TZID=Europe/Rome:20251123T183000
DTSTAMP:20260422T020859
CREATED:20250530T131703Z
LAST-MODIFIED:20250916T100406Z
UID:25845-1763803800-1763922600@odakayoga.com
SUMMARY:Art of Adjusmtent
DESCRIPTION:MILANO (zona Porta Romana)  e ONLINE il 22-23 Novembre 2025 \n20 ore Continuing educational Yoga Alliance \n\nore computabili per le 500 PLUS \n\n\nSiamo felici di annunciare\, fialmente e a grande richiesta\, il ritorno di uno dei moduli più amati e trasformativi del percorso Odaka Yoga®! \n\n\nL’arte dell’Assistenza e l’Allineamento Consapevole. Modulo riconosciuto all’interno della Formazione insegnanti Odaka Yoga® 500h Ryt Plus. \nCorso Tenuto da: \nRoberto Milletti e Francesca Cassia \n\n\nUn week end immersivo per affinare la tua capacità di osservare\, toccare\, guidare e sostenere i praticanti nella loro evoluzione sul tappetino. Approfondiremo la metodologia delle asana\, esplorando come prevenire infortuni e favorire un’esperienza sicura e funzionale\, a livello muscolare\, scheletrico e fasciale. Come utilizzare l’allineamento per interpretare il corpo\, con un contatto gentile e mai invasivo\, l’Arte dell’assistenza applicata e come creare un lavoro personalizzato basato su specifiche richieste. \n\n\n\nCi concentreremo su: \n\n\nI principi dell’allineamento intelligente\, per leggere il corpo e offrire aggiustamenti mirati\nL’arte dell’assistenza manuale e verbale\, rispettosa e mai invasiva\nGruppi di asana come le flessioni in avanti\, le estensioni\, le torsioni\, le posizioni in piedi e gli equilibri\, analizzati in profondità per comprendere come adattarli e personalizzarli\nVarianti e modifiche funzionali\, per accogliere le diverse esigenze dei praticanti e supportarli nella loro evoluzione\nTecniche di osservazione e contatto\, per comunicare con il corpo senza parole\, attraverso ascolto e presenza\n\n\nUn’occasione preziosa per sviluppare una nuova consapevolezza: non solo su come correggere\, ma su come facilitare trasformazione e crescita\, dentro e fuori la pratica. \n\n\nTi aspettiamo per danzare con consapevolezza tra onde\, corpi e intenzioni. \n\n\n\n\nTel. +39 351 9231632 da lun. a ven. 9.30- 14.00 \n\n\nTel. +39 338 7565513 da lun.a ven. dalle 14.00 alle 18.30 \n\n\nEmail: info@odakayoga.com \n\n\nweb: odakayoga.com
URL:https://odakayoga.com/it/evento/art-of-adjusmtent/
LOCATION:ASD YAMA KARATE\, Via Giulietta Pezzi 4\, Milano\, 20135
CATEGORIES:Formazione
ATTACH;FMTTYPE=image/png:https://odakayoga.com/wordpress/wp-content/uploads/ADJ.png
END:VEVENT
BEGIN:VEVENT
DTSTART;TZID=Europe/Rome:20251129T143000
DTEND;TZID=Europe/Rome:20251129T173000
DTSTAMP:20260422T020859
CREATED:20250924T104542Z
LAST-MODIFIED:20250924T104542Z
UID:25973-1764426600-1764437400@odakayoga.com
SUMMARY:Masterclass Odaka Shoulder Bliss - Liberare le ali del Cuore
DESCRIPTION:Masterclass tenuta dai Maestri Roberto Milletti & Francesca Cassia \nUn viaggio fluido e profondo per sciogliere tensioni\, migliorare la mobilità e costruire forza funzionale nelle spalle. Attraverso onde\, torsioni e aperture del torace imparerai a muovere il cingolo scapolare in armonia con respiro e centro\, creando stabilità senza rigidità. \nLa pratica ti guiderà verso la peak pose Eka Pada Rajakapotasana (variazione con mermaid arms) – con leggerezza\, spazio e potenza. \nUna masterclass adatta a tutti i livelli\, per sentirti più liber* forte e centrat* \nPer info e prenotazioni contattare Yoga Essential \nlinktr.ee/yogaessential
URL:https://odakayoga.com/it/evento/masterclass-odaka-shoulder-bliss-liberare-le-ali-del-cuore/
LOCATION:Yoga Essential\, Corso Garibaldi\, 77\, Milano\, 20121\, Italy
CATEGORIES:Workshop / Festival
ATTACH;FMTTYPE=image/jpeg:https://odakayoga.com/wordpress/wp-content/uploads/WhatsApp-Image-2025-09-24-at-12.32.06.jpeg
END:VEVENT
BEGIN:VEVENT
DTSTART;TZID=Europe/Rome:20251130T173000
DTEND;TZID=Europe/Rome:20260419T190000
DTSTAMP:20260422T020859
CREATED:20251003T073457Z
LAST-MODIFIED:20251003T073457Z
UID:25990-1764523800-1776625200@odakayoga.com
SUMMARY:Yoga & Filosofia
DESCRIPTION:Dopo il successo dello scorso anno\, torna Yoga e Filosofia! \n10 ore di Formazione continua\, computabili per le 500 plus e 760 Ryt \nScopri i segreti millenari di questa saggezza yogica e apprendi come applicarli nella tua vita quotidiana! \nIl corso è tenuto da Sarah Giannini\, laureata in filosofia orientale ed esperta del settore! Dal 2012 insegna filosofia indiana nei corsi di formazione per insegnanti yoga. Questo breve corso di propone di illustrare le fonti dello yoga e dare consistenza alla cornice filosofica che ha reso la possibile la genesi ed il perfezionamento delle numerose tecniche che attualmente pratichiamo! \ngli appuntamenti saranno: \n\n30 novembre\n7 dicembre\n11 gennaio 2026\n1 marzo 2026\n29 marzo 2026\n19 aprile 2026\n\nOgni incontro dura 1 ora e trenta\, dalle 17.30 alle 19.00 \nPER INFO & PRENOTAZIONI \nscrivi a info@odakayoga.com \n 
URL:https://odakayoga.com/it/evento/yoga-filosofia-2/
LOCATION:ASD YAMA KARATE\, Via Giulietta Pezzi 4\, Milano\, 20135
CATEGORIES:Formazione
ATTACH;FMTTYPE=image/png:https://odakayoga.com/wordpress/wp-content/uploads/yoga-e-filosofia.png
END:VEVENT
END:VCALENDAR